Workbook
Name 希望工事種別: #REF!,#REF!

Sheet 変更箇所
A1: ・入力頂く箇所を薄青色にしております。
A2: ・シート名の変更はブックの保護で可能でした。本Bookに実装しております。(PW：wnexco)
A3: ・様式1-1の申請区分を選択内容を把握するため、プルダウンに変更しております。
A4: ・様式1-1の適合証明書年月日、申請日を年月日で分けるのではなく、日付形式にしております。
A5: ・様式1-1の県名に対するフリガナは削除しました。
A6: ・様式2の希望工種プルダウンを廃止しました。

Sheet 様式1-1
A1: 様式１－１（令和7・8年度 ＮＥＸＣＯ西日本申請用）
A2: 01 | C2: 新規 | I2: ※02受付番号 | AA2: 03業 者 コ ー ド | AV2: ※05申請者の規模 | BD2: 06適格組合証明
AA3: 04建設業許可番号 | AM3: － | BI3: 第 | BS3: 号
A5: 競争参加資格審査申請書（建設工事）
G6: 令和7・8年度において、貴機関で行われる工事に係る競争に参加する資格の審査を申請します。
G7: なお、この申請書及び添付書類の内容については、事実と相違しないことを誓約します。
G8: また、「競争参加資格審査申請に伴う不正行為等防止約款」に同意します。
A10: 申請日：
B12: 西日本高速道路㈱ 殿
A14: 07 | C14: 本社（店）郵便番号 | S14: - | AJ14: 08 | AL14: 法人番号
H16: （ﾌﾘｶﾞﾅ）
A17: 09 | C17: 本社（店）住所 | M17: 県名 | T17: 市区町村 | AH17: 地名/番地
H19: （ﾌﾘｶﾞﾅ）
A20: 10 | C20: 商号又は名称
A22: 11 | C22: 役 職
H24: （ﾌﾘｶﾞﾅ） | AR24: （ﾌﾘｶﾞﾅ）
A25: 11 | C25: 代表者氏名 | AM25: 12 | AO25: 担当者氏名
A27: 13 | C27: 本社（店）電話番号 | S27: - | AA27: - | AM27: 14 | AO27: 担当者電話番号 | BC27: - | BK27: -
A29: 15 | C29: 本社（店）ＦＡＸ番号 | S29: - | AA29: - | AM29: 16 | AO29: お知らせ
AO30: メールアドレス | AW30: 入札に関するお知らせをメール配信しています。
A31: （代理申請時使用欄） | M31: [申請代理人住所] | W31: 〒 | AB31: － | AW31: この目的のためにメールアドレスのご提供にご同意いただける場合には
A32: 17 | C32: 申請代理人 | AW32: 上記欄にご登録をお願いいたします。
M33: [申請代理人電話番号] | AD33: - | AK33: -
M34: [申請代理人氏名]
A36: 18 | C36: 外 資 状 況 | M36: １．外国籍会社 | W36: ２．日本国籍会社 | AG36: ３．日本国籍会社 | BB36: 19 | BD36: 事業年数 | BQ36: 年
M37: [国名： | V37: ] | W37: [国名： | AF37: ] | AG37: [国名： | AP37: ] | AQ37: [国名： | AZ37: ]
W38: （外資比率：１００％） | AG38: （外資比率： | AO38: ％） | AQ38: （外資比率： | AY38: ％） | BB38: 20 | BD38: 総職員数（人）
A39: ※欄については、記載しないこと

Sheet 様式2
A1: 様式２（令和7・8年度 ＮＥＸＣＯ西日本申請用）
A2: ※受付番号 | Q2: 業 者 コ ー ド
A4: 希望工種別年間平均完成工事高内訳表 | CE4: （単位：千円）
A5: 申請希望（○ or △） | CC5: 希望工種数
CC6: =IF(COUNTA(I5:BY6)=0,"",COUNTA(I5:BY6))
H7: 競争参加資格 | I7: 土木工事 | L7: 土木補修工事 | O7: 舗装工事 | R7: PC橋上部工工事 | U7: 鋼橋上部工工事 | X7: 橋梁補修改築工事 | AA7: 建築工事 | AD7: 電気工事 | AG7: 通信工事 | AJ7: 管工事 | AM7: 塗装工事 | AP7: 造園工事 | AS7: 道路付属物工事 | AV7: トンネル非常用設備工事 | AY7: 受配電設備工事 | BB7: 遠方監視制御設備工事 | BE7: 伝送交換設備工事 | BH7: 交通情報設備工事 | BK7: 無線設備工事 | BN7: トンネル換気設備工事 | BQ7: 機械設備工事 | BT7: 道路保全土木工事 | BW7: 道路保全施設工事 | BZ7: その他 | CC7: 合計
H8: 希望工事種別
A9: 建設業法上の
A10: 建設工事
A11: 01 | B11: 土木一式 | CC11: =IF(SUM(I11:CB11)=0,"",SUM(I11:CB11)) | CK11: 土木工事
A12: 02 | B12: 建築一式 | CC12: =IF(SUM(I12:CB12)=0,"",SUM(I12:CB12)) | CK12: 土木補修工事
A13: 03 | B13: 大工 | CC13: =IF(SUM(I13:CB13)=0,"",SUM(I13:CB13)) | CK13: 舗装工事
A14: 04 | B14: 左官 | CC14: =IF(SUM(I14:CB14)=0,"",SUM(I14:CB14)) | CK14: ＰＣ橋上部工工事
A15: 05 | B15: とび・土工・コンクリート | CC15: =IF(SUM(I15:CB15)=0,"",SUM(I15:CB15)) | CK15: 鋼橋上部工工事
A16: 06 | B16: 石 | CC16: =IF(SUM(I16:CB16)=0,"",SUM(I16:CB16)) | CK16: 橋梁補修改築工事
A17: 07 | B17: 屋根 | CC17: =IF(SUM(I17:CB17)=0,"",SUM(I17:CB17)) | CK17: 建築工事
A18: 08 | B18: 電気 | CC18: =IF(SUM(I18:CB18)=0,"",SUM(I18:CB18)) | CK18: 電気工事
A19: 09 | B19: 管 | CC19: =IF(SUM(I19:CB19)=0,"",SUM(I19:CB19)) | CK19: 通信工事
A20: 10 | B20: タイル・レンガ・ブロック | CC20: =IF(SUM(I20:CB20)=0,"",SUM(I20:CB20)) | CK20: 管工事
A21: 11 | B21: 鋼構造物 | CC21: =IF(SUM(I21:CB21)=0,"",SUM(I21:CB21)) | CK21: 塗装工事
A22: 12 | B22: 鉄筋 | CC22: =IF(SUM(I22:CB22)=0,"",SUM(I22:CB22)) | CK22: 造園工事
... A31: 21 | B31: 熱絶縁 | CC31: =IF(SUM(I31:CB31)=0,"",SUM(I31:CB31)) | CK31: 機械設備工事
A32: 22 | B32: 電気通信 | CC32: =IF(SUM(I32:CB32)=0,"",SUM(I32:CB32))
A33: 23 | B33: 造園 | CC33: =IF(SUM(I33:CB33)=0,"",SUM(I33:CB33))
A34: 24 | B34: さく井 | CC34: =IF(SUM(I34:CB34)=0,"",SUM(I34:CB34))
A35: 25 | B35: 建具 | CC35: =IF(SUM(I35:CB35)=0,"",SUM(I35:CB35))
A36: 26 | B36: 水道施設 | CC36: =IF(SUM(I36:CB36)=0,"",SUM(I36:CB36))
A37: 27 | B37: 消防施設 | CC37: =IF(SUM(I37:CB37)=0,"",SUM(I37:CB37))
A38: 28 | B38: 清掃施設 | CC38: =IF(SUM(I38:CB38)=0,"",SUM(I38:CB38))
A39: 29 | B39: 解体 | CC39: =IF(SUM(I39:CB39)=0,"",SUM(I39:CB39))
A40: その他 | CC40: =IF(SUM(I40:CB40)=0,"",SUM(I40:CB40))
A41: 希望工種合計 | I41: =IF(SUM(I11:K40)=0,"",SUM(I11:K40)) | L41: =IF(SUM(L11:N40)=0,"",SUM(L11:N40)) | O41: =IF(SUM(O11:Q40)=0,"",SUM(O11:Q40)) | R41: =IF(SUM(R11:T40)=0,"",SUM(R11:T40)) | U41: =IF(SUM(U11:W40)=0,"",SUM(U11:W40)) | X41: =IF(SUM(X11:Z40)=0,"",SUM(X11:Z40)) | AA41: =IF(SUM(AA11:AC40)=0,"",SUM(AA11:AC40)) | AD41: =IF(SUM(AD11:AF40)=0,"",SUM(AD11:AF40)) | AG41: =IF(SUM(AG11:AI40)=0,"",SUM(AG11:AI40)) | AJ41: =IF(SUM(AJ11:AL40)=0,"",SUM(AJ11:AL40)) | AM41: =IF(SUM(AM11:AO40)=0,"",SUM(AM11:AO40)) | AP41: =IF(SUM(AP11:AR40)=0,"",SUM(AP11:AR40)) | AS41: =IF(SUM(AS11:AU40)=0,"",SUM(AS11:AU40)) | AV41: =IF(SUM(AV11:AX40)=0,"",SUM(AV11:AX40)) | AY41: =IF(SUM(AY11:BA40)=0,"",SUM(AY11:BA40)) | BB41: =IF(SUM(BB11:BD40)=0,"",SUM(BB11:BD40)) | BE41: =IF(SUM(BE11:BG40)=0,"",SUM(BE11:BG40)) | BH41: =IF(SUM(BH11:BJ40)=0,"",SUM(BH11:BJ40)) | BK41: =IF(SUM(BK11:BM40)=0,"",SUM(BK11:BM40)) | BN41: =IF(SUM(BN11:BP40)=0,"",SUM(BN11:BP40)) | BQ41: =IF(SUM(BQ11:BS40)=0,"",SUM(BQ11:BS40)) | BZ41: =IF(SUM(BZ11:CB40)=0,"",SUM(BZ11:CB40)) | CC41: =IF(SUM(CC11:CE40)=0,"",SUM(CC11:CE40))
A42: [記載要領]
A43: （１）総合評定値通知書に記載されている「建設業法上の建設工事」ごとの年間平均完成工事高を、当社の定める「競争参加資格希望工事種別」に分割もしくはそのまま計上してください。
A44: ※当社の定める「競争参加資格希望工事種別」への計上を希望されない分の年間平均完成工事高は、「その他」欄へ記載してください。
A45: （２）「建設業法上の建設工事」ごとに最右列に設けている合計値は、総合評定値通知書に記載されている「建設業法上の建設工事」ごとの年間平均完成工事高と同一としてください。
A46: （３）当社の定める「競争参加資格希望工事種別」のうち、申請を希望する工事種別については、「申請希望」欄に○を記載してください。（追加申請を希望する場合は、既に認定を受けている工種に○を記載したうえで、△を記載してください）
A47: （４）「道路保全土木工事」の申請を希望する場合は、「土木一式工事」「舗装工事」「造園工事」の全てにおいて総合評定値（Ｐ）を受けていることが必要となります。
A48: （５）「道路保全施設工事」の申請を希望する場合は、「電気工事」「通信工事」の両方の工種の総合評定値（Ｐ）を受けていることが必要となります。
A49: （６）実績がない工事種別を希望する場合は、「希望工種合計」欄に「0」を記載してください。

Sheet プルダウン
A2: 1 | B2: 北海道 | C2: ホッカイドウ
A3: 2 | B3: 青森県 | C3: アオモリケン
A4: 3 | B4: 岩手県 | C4: イワテケン
A5: 4 | B5: 宮城県 | C5: ミヤギケン
A6: 5 | B6: 秋田県 | C6: アキタケン
A7: 6 | B7: 山形県 | C7: ヤマガタケン
A8: 7 | B8: 福島県 | C8: フクシマケン
A9: 8 | B9: 茨城県 | C9: イバラキケン
A10: 9 | B10: 栃木県 | C10: トチギケン
A11: 10 | B11: 群馬県 | C11: グンマケン
A12: 11 | B12: 埼玉県 | C12: サイタマケン
A13: 12 | B13: 千葉県 | C13: チバケン
... A48: 47 | B48: 沖縄県 | C48: オキナワケン

Sheet 様式3
A1: 様式３（令和7・8年度 ＮＥＸＣＯ西日本申請用） | AH1: （１）本表は、申請日現在で作成してください。 （２）「営業所名称」欄には、経営事項審査を受けた建設業の許可を有するすべての本店又は支店等営業所の名称を記載してください。 （３）「所在地」欄には、営業所の所在地を左詰めで記載してください。 （４）「電話番号・ＦＡＸ番号」欄は、上段に電話番号を、下段にＦＡＸ番号を記載してください。また、市外局番・市内局番及び番号は「-（ハイフン）」で区切ってください。 （５）「建設業許可業種」の欄には、「営業所名称」欄に記載した営業所に対応する経営事項審査を受けた建設業許可業種の欄に○印を付けてください。
A2: ※受付番号 | R2: 業 者 コ ー ド | W2: =IF('様式1-1'!AK2="","",'様式1-1'!AK2) | X2: =IF('様式1-1'!AL2="","",'様式1-1'!AL2) | Y2: =IF('様式1-1'!AM2="","",'様式1-1'!AM2) | Z2: =IF('様式1-1'!AN2="","",'様式1-1'!AN2) | AA2: =IF('様式1-1'!AO2="","",'様式1-1'!AO2) | AB2: =IF('様式1-1'!AP2="","",'様式1-1'!AP2) | AC2: =IF('様式1-1'!AQ2="","",'様式1-1'!AQ2) | AD2: =IF('様式1-1'!AR2="","",'様式1-1'!AR2) | ... AF2: =IF('様式1-1'!AT2="","",'様式1-1'!AT2)
A4: 営 業 所 一 覧 表
A5: 番号 | B5: 営業所名称 | I5: 郵便番号 | N5: 所 在 地 | AC5: 電話番号（上段） | AN5: 建 設 業 許 可 業 種
AN6: 土 | AO6: 建 | AP6: 大 | AQ6: 左 | AR6: と | AS6: 石 | AT6: 屋 | AU6: 電 | AV6: 管 | AW6: 夕 | AX6: 鋼 | AY6: 筋 | AZ6: 舗 | BA6: しゅ | BB6: 板 | BC6: ガ | BD6: 塗 | BE6: 防 | BF6: 内 | BG6: 機 | BH6: 絶 | BI6: 通 | BJ6: 園 | BK6: 井 | BL6: 具 | BM6: 水 | BN6: 消 | BO6: 清 | BP6: 解
AC7: ＦＡＸ番号（下段）
A8: 1 | B8: =IF('様式1-1'!M20="","","本 社") | I8: =IF('様式1-1'!M14="","",'様式1-1'!M14) | K8: - | L8: =IF('様式1-1'!U14="","",'様式1-1'!U14) | N8: =IF('様式1-1'!M17="","",'様式1-1'!M17) -> 県名 | R8: =IF('様式1-1'!T17="","",'様式1-1'!T17) -> 市区町村 | W8: =IF('様式1-1'!AH17="","",'様式1-1'!AH17) -> 地名/番地 | AC8: =IF('様式1-1'!M27="","",'様式1-1'!M27) | AF8: - | AG8: =IF('様式1-1'!U27="","",'様式1-1'!U27) | AJ8: - | AK8: =IF('様式1-1'!AC27="","",'様式1-1'!AC27)
AC9: =IF('様式1-1'!M29="","",'様式1-1'!M29) | AF9: - | AG9: =IF('様式1-1'!U29="","",'様式1-1'!U29) | AJ9: - | AK9: =IF('様式1-1'!AC29="","",'様式1-1'!AC29)
A10: 2 | K10: - | N10: =IF(BQ10="","県名") -> 県名 | R10: 市区町村 | W10: 地名/番地 | AF10: - | AJ10: -
AF11: - | AJ11: -
A12: 3 | K12: - | N12: =IF(BQ12="","県名") -> 県名 | R12: 市区町村 | W12: 地名/番地 | AF12: - | AJ12: -
AF13: - | AJ13: -
A14: 4 | K14: - | N14: =IF(BQ14="","県名") -> 県名 | R14: 市区町村 | W14: 地名/番地 | AF14: - | AJ14: -
AF15: - | AJ15: -
A16: 5 | K16: - | N16: =IF(BQ16="","県名") -> 県名 | R16: 市区町村 | W16: 地名/番地 | AF16: - | AJ16: -
AF17: - | AJ17: -
A18: 6 | K18: - | N18: =IF(BQ18="","県名") -> 県名 | R18: 市区町村 | W18: 地名/番地 | AF18: - | AJ18: -
AF19: - | AJ19: -
A20: 7 | K20: - | N20: =IF(BQ20="","県名") -> 県名 | R20: 市区町村 | W20: 地名/番地 | AF20: - | AJ20: -
AF21: - | AJ21: -
A22: 8 | K22: - | N22: =IF(BQ22="","県名") -> 県名 | R22: 市区町村 | W22: 地名/番地 | AF22: - | AJ22: -
AF23: - | AJ23: -
A24: 9 | K24: - | N24: =IF(BQ24="","県名") -> 県名 | R24: 市区町村 | W24: 地名/番地 | AF24: - | AJ24: -
AF25: - | AJ25: -
A26: 10 | K26: - | N26: =IF(BQ26="","県名") -> 県名 | R26: 市区町村 | W26: 地名/番地 | AF26: - | AJ26: -
AF27: - | AJ27: -
A28: 11 | K28: - | N28: =IF(BQ28="","県名") -> 県名 | R28: 市区町村 | W28: 地名/番地 | AF28: - | AJ28: -
AF29: - | AJ29: -
A30: 12 | K30: - | N30: =IF(BQ30="","県名") -> 県名 | R30: 市区町村 | W30: 地名/番地 | AF30: - | AJ30: -
AF31: - | AJ31: -
A32: 13 | K32: - | N32: =IF(BQ32="","県名") -> 県名 | R32: 市区町村 | W32: 地名/番地 | AF32: - | AJ32: -
AF33: - | AJ33: -
A34: 14 | K34: - | N34: =IF(BQ34="","県名") -> 県名 | R34: 市区町村 | W34: 地名/番地 | AF34: - | AJ34: -
AF35: - | AJ35: -
A36: 15 | K36: - | N36: =IF(BQ36="","県名") -> 県名 | R36: 市区町村 | W36: 地名/番地 | AF36: - | AJ36: -
AF37: - | AJ37: -
A38: 16 | K38: - | N38: =IF(BQ38="","県名") -> 県名 | R38: 市区町村 | W38: 地名/番地 | AF38: - | AJ38: -
AF39: - | AJ39: -
A40: 17 | K40: - | N40: =IF(BQ40="","県名") -> 県名 | R40: 市区町村 | W40: 地名/番地 | AF40: - | AJ40: -
AF41: - | AJ41: -
A42: 18 | K42: - | N42: =IF(BQ42="","県名") -> 県名 | R42: 市区町村 | W42: 地名/番地 | AF42: - | AJ42: -
AF43: - | AJ43: -
A44: 19 | K44: - | N44: =IF(BQ44="","県名") -> 県名 | R44: 市区町村 | W44: 地名/番地 | AF44: - | AJ44: -
AF45: - | AJ45: -
A46: 20 | K46: - | N46: =IF(BQ46="","県名") -> 県名 | R46: 市区町村 | W46: 地名/番地 | AF46: - | AJ46: -
AF47: - | AJ47: -
A48: 21 | K48: - | N48: =IF(BQ48="","県名") -> 県名 | R48: 市区町村 | W48: 地名/番地 | AF48: - | AJ48: -
AF49: - | AJ49: -
A50: 22 | K50: - | N50: =IF(BQ50="","県名") -> 県名 | R50: 市区町村 | W50: 地名/番地 | AF50: - | AJ50: -
AF51: - | AJ51: -
A52: 23 | K52: - | N52: =IF(BQ52="","県名") -> 県名 | R52: 市区町村 | W52: 地名/番地 | AF52: - | AJ52: -
AF53: - | AJ53: -
A54: 24 | K54: - | N54: =IF(BQ54="","県名") -> 県名 | R54: 市区町村 | W54: 地名/番地 | AF54: - | AJ54: -
AF55: - | AJ55: -
A56: 25 | K56: - | N56: =IF(BQ56="","県名") -> 県名 | R56: 市区町村 | W56: 地名/番地 | AF56: - | AJ56: -
AF57: - | AJ57: -
A58: 26 | K58: - | N58: =IF(BQ58="","県名") -> 県名 | R58: 市区町村 | W58: 地名/番地 | AF58: - | AJ58: -
AF59: - | AJ59: -
A60: 27 | K60: - | N60: =IF(BQ60="","県名") -> 県名 | R60: 市区町村 | W60: 地名/番地 | AF60: - | AJ60: -
AF61: - | AJ61: -
A62: 28 | K62: - | N62: =IF(BQ62="","県名") -> 県名 | R62: 市区町村 | W62: 地名/番地 | AF62: - | AJ62: -
AF63: - | AJ63: -
A64: 29 | K64: - | N64: =IF(BQ64="","県名") -> 県名 | R64: 市区町村 | W64: 地名/番地 | AF64: - | AJ64: -
AF65: - | AJ65: -
A66: 30 | K66: - | N66: =IF(BQ66="","県名") -> 県名 | R66: 市区町村 | W66: 地名/番地 | AF66: - | AJ66: -
AF67: - | AJ67: -
A68: 31 | K68: - | N68: =IF(BQ68="","県名") -> 県名 | R68: 市区町村 | W68: 地名/番地 | AF68: - | AJ68: -
AF69: - | AJ69: -
A70: 32 | K70: - | N70: =IF(BQ70="","県名") -> 県名 | R70: 市区町村 | W70: 地名/番地 | AF70: - | AJ70: -
AF71: - | AJ71: -
A72: 33 | K72: - | N72: =IF(BQ72="","県名") -> 県名 | R72: 市区町村 | W72: 地名/番地 | AF72: - | AJ72: -
AF73: - | AJ73: -
A74: 34 | K74: - | N74: =IF(BQ74="","県名") -> 県名 | R74: 市区町村 | W74: 地名/番地 | AF74: - | AJ74: -
AF75: - | AJ75: -
A76: 35 | K76: - | N76: =IF(BQ76="","県名") -> 県名 | R76: 市区町村 | W76: 地名/番地 | AF76: - | AJ76: -
AF77: - | AJ77: -
A78: 36 | K78: - | N78: =IF(BQ78="","県名") -> 県名 | R78: 市区町村 | W78: 地名/番地 | AF78: - | AJ78: -
AF79: - | AJ79: -
A80: 37 | K80: - | N80: =IF(BQ80="","県名") -> 県名 | R80: 市区町村 | W80: 地名/番地 | AF80: - | AJ80: -
AF81: - | AJ81: -
A82: 38 | K82: - | N82: =IF(BQ82="","県名") -> 県名 | R82: 市区町村 | W82: 地名/番地 | AF82: - | AJ82: -
AF83: - | AJ83: -
A84: 39 | K84: - | N84: =IF(BQ84="","県名") -> 県名 | R84: 市区町村 | W84: 地名/番地 | AF84: - | AJ84: -
AF85: - | AJ85: -
A86: 40 | K86: - | N86: =IF(BQ86="","県名") -> 県名 | R86: 市区町村 | W86: 地名/番地 | AF86: - | AJ86: -
AF87: - | AJ87: -
A88: 41 | K88: - | N88: =IF(BQ88="","県名") -> 県名 | R88: 市区町村 | W88: 地名/番地 | AF88: - | AJ88: -
AF89: - | AJ89: -
A90: 42 | K90: - | N90: =IF(BQ90="","県名") -> 県名 | R90: 市区町村 | W90: 地名/番地 | AF90: - | AJ90: -
AF91: - | AJ91: -
A92: 43 | K92: - | N92: =IF(BQ92="","県名") -> 県名 | R92: 市区町村 | W92: 地名/番地 | AF92: - | AJ92: -
AF93: - | AJ93: -
A94: 44 | K94: - | N94: =IF(BQ94="","県名") -> 県名 | R94: 市区町村 | W94: 地名/番地 | AF94: - | AJ94: -
AF95: - | AJ95: -
A96: 45 | K96: - | N96: =IF(BQ96="","県名") -> 県名 | R96: 市区町村 | W96: 地名/番地 | AF96: - | AJ96: -
AF97: - | AJ97: -
A98: 46 | K98: - | N98: =IF(BQ98="","県名") -> 県名 | R98: 市区町村 | W98: 地名/番地 | AF98: - | AJ98: -
AF99: - | AJ99: -
A100: 47 | K100: - | N100: =IF(BQ100="","県名") -> 県名 | R100: 市区町村 | W100: 地名/番地 | AF100: - | AJ100: -
AF101: - | AJ101: -
...

Sheet 様式4-1
A1: 様式４－１（令和7・8年度 ＮＥＸＣＯ西日本申請用）
A2: ※受付番号 | R2: 業 者 コ ー ド | W2: =IF('様式1-1'!AK2="","",'様式1-1'!AK2) | X2: =IF('様式1-1'!AL2="","",'様式1-1'!AL2) | Y2: =IF('様式1-1'!AM2="","",'様式1-1'!AM2) | Z2: =IF('様式1-1'!AN2="","",'様式1-1'!AN2) | AA2: =IF('様式1-1'!AO2="","",'様式1-1'!AO2) | AB2: =IF('様式1-1'!AP2="","",'様式1-1'!AP2) | AC2: =IF('様式1-1'!AQ2="","",'様式1-1'!AQ2) | AD2: =IF('様式1-1'!AR2="","",'様式1-1'!AR2) | ... AF2: =IF('様式1-1'!AT2="","",'様式1-1'!AT2)
A4: 共同企業体等調書（技術職員数）その１
A5: 建設工事の種類 | G5: 技 術 職 員 数
G6: １ 級 | M6: 講習受講 | S6: 監理補佐 | Y6: 基 幹 | AE6: ２ 級 | AK6: そ の 他 | AQ6: ※評点 （Ｚ１）
G7: ① | H7: ② | I7: ③ | J7: ④ | K7: ⑤ | L7: ⑥or計 | M7: ① | N7: ② | O7: ③ | P7: ④ | Q7: ⑤ | R7: ⑥or計 | S7: ① | T7: ② | U7: ③ | V7: ④ | W7: ⑤ | X7: ⑥or計 | Y7: ① | Z7: ② | AA7: ③ | AB7: ④ | AC7: ⑤ | AD7: ⑥or計 | AE7: ① | AF7: ② | AG7: ③ | AH7: ④ | AI7: ⑤ | AJ7: ⑥or計 | AK7: ① | AL7: ② | AM7: ③ | AN7: ④ | AO7: ⑤ | AP7: ⑥or計
A8: 01 | B8: 土木一式
A9: 02 | B9: 建築一式
A10: 03 | B10: 大工
A11: 04 | B11: 左官
A12: 05 | B12: とび・土工・コンクリート
A13: 06 | B13: 石
A14: 07 | B14: 屋根
A15: 08 | B15: 電気
A16: 09 | B16: 管
A17: 10 | B17: タイル・れんが・ブロック
A18: 11 | B18: 鋼構造物
A19: 12 | B19: 鉄筋
... A33: 26 | B33: 水道施設
A34: 29 | B34: 消防施設
A35: 28 | B35: 清掃施設
A36: 29 | B36: 解体
A37: 合 計
G39: 区 分 | M39: ① | O39: ② | Q39: ③ | S39: ④ | U39: ⑤ | W39: ⑥or計 | Y39: ※数値 | AA39: ※点数 | AC39: ※合計 | AE39: ※評点（Ｘ２） | AI39: （金額単位：千円）
G40: 自己資本額
G41: 利益額
G42: 経営状況 | Y42: ※評点（Y）
G43: その他の評価項目 | Y43: ※評点（Ｗ）

Sheet 様式4-2
A1: 様式４－２（令和7・8年度 ＮＥＸＣＯ西日本申請用）
A2: ※受付番号 | R2: 業 者 コ ー ド | W2: =IF('様式1-1'!AK2="","",'様式1-1'!AK2) | X2: =IF('様式1-1'!AL2="","",'様式1-1'!AL2) | Y2: =IF('様式1-1'!AM2="","",'様式1-1'!AM2) | Z2: =IF('様式1-1'!AN2="","",'様式1-1'!AN2) | AA2: =IF('様式1-1'!AO2="","",'様式1-1'!AO2) | AB2: =IF('様式1-1'!AP2="","",'様式1-1'!AP2) | AC2: =IF('様式1-1'!AQ2="","",'様式1-1'!AQ2) | AD2: =IF('様式1-1'!AR2="","",'様式1-1'!AR2) | ... AF2: =IF('様式1-1'!AT2="","",'様式1-1'!AT2)
A4: 共同企業体等調書（技術職員数）その２
A5: 建設工事の種類 | G5: 技 術 職 員 数
G6: １ 級 | M6: 講習受講 | S6: 監理補佐 | Y6: 基 幹 | AE6: ２ 級 | AK6: そ の 他 | AQ6: ※評点 （Ｚ１）
G7: ⑦ | H7: ⑧ | I7: ⑨ | J7: ⑩ | K7: ⑪ | L7: 計 | M7: ⑦ | N7: ⑧ | O7: ⑨ | P7: ⑩ | Q7: ⑪ | R7: 計 | S7: ① | T7: ② | U7: ③ | V7: ④ | W7: ⑤ | X7: ⑥or計 | Y7: ⑦ | Z7: ⑧ | AA7: ⑨ | AB7: ⑩ | AC7: ⑪ | AD7: 計 | AE7: ⑦ | AF7: ⑧ | AG7: ⑨ | AH7: ⑩ | AI7: ⑪ | AJ7: 計 | AK7: ⑦ | AL7: ⑧ | AM7: ⑨ | AN7: ⑩ | AO7: ⑪ | AP7: 計
A8: 01 | B8: 土木一式
A9: 02 | B9: 建築一式
A10: 03 | B10: 大工
A11: 04 | B11: 左官
A12: 05 | B12: とび・土工・コンクリート
A13: 06 | B13: 石
A14: 07 | B14: 屋根
A15: 08 | B15: 電気
A16: 09 | B16: 管
A17: 10 | B17: タイル・れんが・ブロック
A18: 11 | B18: 鋼構造物
A19: 12 | B19: 鉄筋
... A33: 26 | B33: 水道施設
A34: 29 | B34: 消防施設
A35: 28 | B35: 清掃施設
A36: 29 | B36: 解体
A37: 合 計
G39: 区 分 | M39: ⑦ | O39: ⑧ | Q39: ⑨ | S39: ⑩ | U39: ⑪ | W39: 計 | Y39: ※数値 | AA39: ※点数 | AC39: ※合計 | AE39: ※評点（Ｘ２） | AI39: （金額単位：千円）
G40: 自己資本額
G41: 利益額
G42: 経営状況 | Y42: ※評点（Y）
G43: その他の評価項目 | Y43: ※評点（Ｗ）

Sheet 様式4-3
A1: 様式４－３（令和7・8年度 ＮＥＸＣＯ西日本申請用）
A2: ※受付番号 | R2: 業 者 コ ー ド | W2: =IF('様式1-1'!AK2="","",'様式1-1'!AK2) | X2: =IF('様式1-1'!AL2="","",'様式1-1'!AL2) | Y2: =IF('様式1-1'!AM2="","",'様式1-1'!AM2) | Z2: =IF('様式1-1'!AN2="","",'様式1-1'!AN2) | AA2: =IF('様式1-1'!AO2="","",'様式1-1'!AO2) | AB2: =IF('様式1-1'!AP2="","",'様式1-1'!AP2) | AC2: =IF('様式1-1'!AQ2="","",'様式1-1'!AQ2) | AD2: =IF('様式1-1'!AR2="","",'様式1-1'!AR2) | ... AF2: =IF('様式1-1'!AT2="","",'様式1-1'!AT2)
F4: 共同企業体等調書（元請完工高） | AR4: （金額単位：千円）
A5: 建設工事の種類 | G5: 元請完成工事高
G6: ① | J6: ② | M6: ③ | P6: ④ | S6: ⑤ | V6: ⑥ | Y6: ⑦ | AB6: ⑧ | AE6: ⑨ | AH6: ⑩ | AK6: ⑪ | AN6: 合計 | AQ6: ※評点 （Ｚ２） | AR6: ※評点（Ｚ） （Ｚ１+Ｚ２）
A8: 01 | B8: 土木一式 | AN8: =SUM(G8:AM8) -> 0
A9: 02 | B9: 建築一式 | AN9: =SUM(G9:AM9) -> 0
A10: 03 | B10: 大工 | AN10: =SUM(G10:AM10) -> 0
A11: 04 | B11: 左官 | AN11: =SUM(G11:AM11) -> 0
A12: 05 | B12: とび・土工・コンクリート | AN12: =SUM(G12:AM12) -> 0
A13: 06 | B13: 石 | AN13: =SUM(G13:AM13) -> 0
A14: 07 | B14: 屋根 | AN14: =SUM(G14:AM14) -> 0
A15: 08 | B15: 電気 | AN15: =SUM(G15:AM15) -> 0
A16: 09 | B16: 管 | AN16: =SUM(G16:AM16) -> 0
A17: 10 | B17: タイル・れんが・ブロック | AN17: =SUM(G17:AM17) -> 0
A18: 11 | B18: 鋼構造物 | AN18: =SUM(G18:AM18) -> 0
A19: 12 | B19: 鉄筋 | AN19: =SUM(G19:AM19) -> 0
... A26: 19 | B26: 内装仕上 | AN26: =SUM(G26:AM26) -> 0
A27: 20 | B27: 機械器具設置 | AN27: =SUM(G29:AM29) -> 0
A28: 21 | B28: 熱絶縁 | AN28: =SUM(G28:AM28) -> 0
A29: 22 | B29: 電気通信 | AN29: =SUM(G29:AM29) -> 0
A30: 23 | B30: 造園 | AN30: =SUM(G30:AM30) -> 0
A31: 24 | B31: さく井 | AN31: =SUM(G31:AM31) -> 0
A32: 25 | B32: 建具 | AN32: =SUM(G32:AM32) -> 0
A33: 26 | B33: 水道施設 | AN33: =SUM(G33:AM33) -> 0
A34: 29 | B34: 消防施設 | AN34: =SUM(G34:AM34) -> 0
A35: 28 | B35: 清掃施設 | AN35: =SUM(G35:AM35) -> 0
A36: 29 | B36: 解体 | AN36: =SUM(G36:AM36) -> 0
A37: 合 計 | G37: =SUM(G8:I36) -> 0 | J37: =SUM(J8:L36) -> 0 | M37: =SUM(M8:O36) -> 0 | P37: =SUM(P8:R36) -> 0 | S37: =SUM(S8:U36) -> 0 | V37: =SUM(V8:X36) -> 0 | Y37: =SUM(Y8:AA36) -> 0 | AB37: =SUM(AB8:AD36) -> 0 | AE37: =SUM(AE8:AG36) -> 0 | AH37: =SUM(AH8:AJ36) -> 0 | AK37: =SUM(AK8:AM36) -> 0 | AN37: =SUM(AN8:AP36) -> 0

Sheet 様式5-1（合併）
A1: 様式5-1（令和7・8年度 ＮＥＸＣＯ西日本申請用）
A2: 合併に伴う競争参加資格承継申請書【工事】
F4: 令和 年 月 日
A6: 西日本高速道路㈱ 殿
C8: 合併後会社 | E8: （所在地）
E9: （商 号）
E10: （代表者）
C12: 合併当事会社
C13: 存続会社 | E13: （商 号）
C14: 解散会社 | E14: （商 号）
A17: 令和 年 月 日付けをもって、○○株式会社は、△△株式会社と下記により合併し、権利義務の一切を承継しましたので、競争参加資格の承継について申請します。
A18: なお、合併後の会社は□□株式会社とします。
A21: 記
A23: １．合併理由
A28: ２．申請に伴う提出書類
B29: ①競争参加資格審査申請書（建設工事） | F29: ・・・・・・様式１
B30: ②工事分割内訳表 | F30: ・・・・・・様式２
B31: ③営業所一覧表 | F31: ・・・・・・様式３
B32: ④総合評定値通知書の写し（合併後を審査基準日とするもの）
B33: ⑤納税証明書の写し
B34: ⑥合併契約書の写し
B35: ⑦合併後の登記事項証明書の写し
B36: ⑧消滅会社の閉鎖登記簿（写し）または建設業廃業届の写し
F38: 以 上

Sheet 様式5-2（事業譲渡）
A1: 様式5-2（令和7・8年度 ＮＥＸＣＯ西日本申請用）
A2: 事業譲渡（一部事業譲渡）に伴う競争参加資格承継申請書【工事】
F4: 令和 年 月 日
A6: 西日本高速道路㈱ 殿
C8: 譲渡後会社 | E8: （所在地）
E9: （商 号）
E10: （代表者）
C12: 譲渡前会社
C13: 譲渡会社 | E13: （商 号）
C14: 譲受会社 | E14: （商 号）
A17: 令和 年 月 日付けをもって、○○株式会社は、△△株式会社に下記により（事業譲渡・一部事業譲渡）し、権利義務の一切を承継しましたので、競争参加資格の承継について申請します。
A18: なお、事業譲渡後の会社は□□株式会社とします。
A21: 記
A23: １．譲渡する希望工事種別
A27: ２．事業譲渡（一部事業譲渡）理由
A31: ３．申請に伴う提出書類
B32: ①競争参加資格審査申請書（建設工事） | F32: ・・・・・・様式１
B33: ②工事分割内訳表 | F33: ・・・・・・様式２
B34: ③営業所一覧表 | F34: ・・・・・・様式３
B35: ④総合評定値通知書の写し（事業譲渡後を審査基準日とするもの）
B36: ⑤納税証明書の写し
B37: ⑥事業譲渡契約書の写し
B38: ⑦譲渡人及び譲受人の株主総会議事録の写し（会社法により株主総会の承認が義務付けられている
B39: 場合に限る）
B40: ⑧事業譲渡後の譲渡人及び譲受人の登記事項証明書の写し
B41: ⑨譲渡人の建設業廃業届の写し（廃業する場合に限る）
F42: 以 上

Sheet 様式5-3（会社分割）
A1: 様式5-3（令和7・8年度 ＮＥＸＣＯ西日本申請用）
A2: 会社分割に伴う競争参加資格承継申請書【工事】
F4: 令和 年 月 日
A6: 西日本高速道路㈱ 殿
C8: 分割後会社 | E8: （所在地）
E9: （商 号）
E10: （代表者）
C12: 分割前会社
C13: 分割渡会社 | E13: （商 号）
C14: 分割受会社 | E14: （商 号）
A17: 令和 年 月 日付けをもって、○○株式会社は、△△株式会社に下記により会社分割し、権利義務の一切を承継しましたので、競争参加資格の承継について申請します。
A18: なお、会社分割後の会社は□□株式会社 とします。
A21: 記
A23: １．分割する希望工事種別
A27: ２．会社分割理由
A31: ３．申請に伴う提出書類
B32: ①競争参加資格審査申請書（建設工事） | F32: ・・・・・・様式１
B33: ②工事分割内訳表 | F33: ・・・・・・様式２
B34: ③営業所一覧表 | F34: ・・・・・・様式３
B35: ④総合評定値通知書の写し（会社分割後を審査基準日とするもの）
B36: ⑤納税証明書の写し
B37: ⑥会社分割契約書の写し
B38: ⑦会社分割後の譲渡人及び譲受人の登記事項証明書の写し
B39: ⑧建設業廃業届の写し（廃業する場合に限る）
F41: 以 上
