Workbook

Sheet 変更箇所
A1: ・入力頂く箇所を薄青色にしております。
A2: ・様式1-1の申請区分を選択内容を把握するため、プルダウンに変更しております。
A3: ・様式1-1の適合証明書年月日、申請日を年月日で分けるのではなく、日付形式にしております。
A4: ・様式1-1の県名に対するフリガナは削除しました。
A5: ・様式1-3の許可種別にプルダウン(○【記号】)を追加しました。
A6: ・様式1-3の建設コンサルタント及び補償コンサルタント登録業者の登録部門に選択用のプルダウンを追加しました。(8行目)
A7: ・様式1-3の自己資本に株式引受権を追加しました。

Sheet 申請の事前チェック
A1: ≪申請の事前チェック≫
A4: 以下の内容については、申請時に修正や差し替えが多い点です。申請書類提出前に事前チェックをお願いします。
A6: FALSE | B6: 新規・更新（過去に一度でも当社に登録していた場合または令和9・10年度の資格認定を受けている方が工事種別の追加申請をする場合）を選択していますか。
A8: FALSE | B8: 更新の方は業者コードの欄に①過去に当社から交付された「競争参加資格認定通知書」または②「有資格者名簿」に記載されているコード番号（10桁）が記載されていますか。（例： 1000012345）
A12: FALSE | B12: ＴＥＣＲＩＳ、ＰＵＢＤＩＳに登録をしている場合は、会社コードを記載されていますか｡
A14: FALSE | B14: 年月日は申請書の提出日（発送日）が記載されていますか。
A16: FALSE | B16: 本社(店)住所のフリガナは、都道府県名を省略して記載されていますか。 また、丁目・番地は、「－（ハイフン）」で省略して記載されていますか。
A19: FALSE | B19: 申請書類に用いる文字はＪＩＳ第一水準・第二水準ですか。 左記水準以外の漢字については、類似漢字若しくは仮名に書き換えていますか。 【例】 髙⇒高、﨑⇒崎、濵⇒浜・濱など
A23: FALSE | B23: 事業上必要な登録証明書の写しは、証明年月日が申請書類提出時の３ヶ月以内のものが添付されていますか。 【測量業者、建築士事務所、不動産鑑定業者、土地家屋調査士、計量証明事業者 等】
A27: FALSE | B27: 測量等実績高の欄で、次の業務を希望する者は、次の条件を満たしていますか。 ・「測量一般」、「航空測量」：測量法による測量業者の登録を受けていますか。 ・「環境調査」のうち、濃度測定、音圧レベル測定及び振動加速度レベル測定を行う場合：計量法による計量証明業者の登録を受けていますか。 ・「建築設計」：建築士法による建築士事務所の登録を受けていますか。 ・「土地評価」：不動産鑑定を行う場合は不動産鑑定業者の登録を受けていますか。
A34: FALSE | B34: 「実績高」の欄には、消費税及び地方消費税を含まない金額が記載されていますか。
A36: FALSE | B36: 「20 測量等実績高」④の縦計が合わない場合、端数調整されていますか。
A38: FALSE | B38: ⑤申請希望欄には、希望する業種に対して○印が記載されていますか。 また、○印の合計数は記載されていますか。（※追加を希望する業種の場合は△印です。）
A41: FALSE | B41: 「22 建設ｺﾝｻﾙﾀﾝﾄ、補償ｺﾝｻﾙﾀﾝﾄ及び計量証明登録業者の登録部門」の欄には、登録を受けている事業のみ「○」を記入していますか。 また、「○」を記入している場合、登録証明書の写しは添付されていますか。
... A51: FALSE | B51: 技術者経歴書は、必要事項を網羅したものであれば、当社の指定の様式でなくても構いません。

Sheet 様式1-1表
A1: 様式１－１（令和9・10年度 ＮＥＸＣＯ西日本申請用） | BU1: とばす
A2: 01 | C2: 新規 | I2: ※02受付番号 | AA2: 03業 者 コ ー ド | AV2: ※06申請者の規模 | BD2: 07適格組合証明
AA3: 04ＴＥＣＲＩＳコード | BI3: 第 | BS3: 号
AA4: 05ＰＵＢＤＩＳコード
A6: 競争参加資格審査申請書（測量・建設コンサルタント等）
G7: 令和9・10年度において、貴機関で行われる測量・建設コンサルタント等業務に係る競争に参加する資格の審査を申請します。
G8: なお、この申請書及び添付書類の内容については、事実と相違しないことを誓約します。
G9: また、「競争参加資格審査申請に伴う不正行為等防止約款」に同意します。
A11: 申請日：
B13: 西日本高速道路㈱ 殿
A15: 08 | C15: 本社（店）郵便番号 | S15: - | AJ15: 09 | AL15: 法人番号
H17: （ﾌﾘｶﾞﾅ）
A18: 10 | C18: 本社（店）住所 | M18: 県名 | T18: 市区町村 | AH18: 地名/番地
H20: （ﾌﾘｶﾞﾅ）
A21: 11 | C21: 商号又は名称
A23: 12 | C23: 役 職
H25: （ﾌﾘｶﾞﾅ） | AR25: （ﾌﾘｶﾞﾅ）
A26: 12 | C26: 代表者氏名 | AM26: 13 | AO26: 担当者氏名
A28: 14 | C28: 本社（店）電話番号 | S28: - | AA28: - | AM28: 15 | AO28: 担当者電話番号 | BC28: - | BK28: -
A30: 16 | C30: 本社（店）ＦＡＸ番号 | S30: - | AA30: - | AM30: 17 | AO30: お知らせ
AO31: メールアドレス | AW31: 入札に関するお知らせをメール配信しています。
A32: 18 | C32: 申請代理人 | M32: [申請代理人住所] | W32: 〒 | AB32: － | AW32: この目的のためにメールアドレスのご提供にご同意いただける場合には
A33: （代理申請時使用欄） | AW33: 上記欄にご登録をお願いいたします。
M34: [申請代理人電話番号] | AD34: - | AK34: -
M35: [申請代理人氏名] | W35: 行政書士等が代理申請する場合は委任状（委任者の押印があること）が必要です。
A37: 19 | C37: 登録を受けている事業
C39: 登録事業名 | M39: 登録番号 | R39: 登録年月日 | Z39: 登録事業名 | AJ39: 登録番号 | AO39: 登録年月日 | AW39: 登録事業名 | BG39: 登録番号 | BL39: 登録年月日
C40: 測量業者 | M40: 号 | Z40: 建築士事務所 | AJ40: 号 | AW40: 建設コンサルタント | BG40: 号
C41: 地質調査業者 | M41: 号 | Z41: 補償コンサルタント | AJ41: 号 | AW41: 不動産鑑定業者 | BG41: 号
C42: 土地家屋調査士 | M42: 号 | Z42: 司法書士 | AJ42: 号 | AW42: 計量証明事業者 | BG42: 号
A43: ※欄については、記載しないこと（以下同じ）。
A44: ※TECRIS、PUBDISコードの登録がある場合は必ず当該コード番号を記入すること
BU45: 赤文字
BU49: 画面にも申請書にも存在せず、契約管理が欲する項目
BU50: ・対象年度

Sheet プルダウン
A2: 1 | B2: 北海道 | C2: ホッカイドウ
A3: 2 | B3: 青森県 | C3: アオモリケン
A4: 3 | B4: 岩手県 | C4: イワテケン
A5: 4 | B5: 宮城県 | C5: ミヤギケン
A6: 5 | B6: 秋田県 | C6: アキタケン
A7: 6 | B7: 山形県 | C7: ヤマガタケン
A8: 7 | B8: 福島県 | C8: フクシマケン
A9: 8 | B9: 茨城県 | C9: イバラキケン
A10: 9 | B10: 栃木県 | C10: トチギケン
A11: 10 | B11: 群馬県 | C11: グンマケン
A12: 11 | B12: 埼玉県 | C12: サイタマケン
A13: 12 | B13: 千葉県 | C13: チバケン
... A48: 47 | B48: 沖縄県 | C48: オキナワケン

Sheet 様式1-1裏
A1: 様式１－１（令和9・10年度 ＮＥＸＣＯ西日本申請用）
A2: ※受付番号 | R2: 業 者 コ ー ド | X2: =IF('様式1-1表'!AK2="","",'様式1-1表'!AK2) | Y2: =IF('様式1-1表'!AL2="","",'様式1-1表'!AL2) | Z2: =IF('様式1-1表'!AM2="","",'様式1-1表'!AM2) | AA2: =IF('様式1-1表'!AN2="","",'様式1-1表'!AN2) | AB2: =IF('様式1-1表'!AO2="","",'様式1-1表'!AO2) | AC2: =IF('様式1-1表'!AP2="","",'様式1-1表'!AP2) | AD2: =IF('様式1-1表'!AQ2="","",'様式1-1表'!AQ2) | AE2: =IF('様式1-1表'!AR2="","",'様式1-1表'!AR2) | ... AH2: =IF('様式1-1表'!AU2="","",'様式1-1表'!AU2)
AH3: =IF('様式1-1表'!AU3="","",'様式1-1表'!AU3)
C4: ① 競争参加資格 希望業種区分 | N4: ② 直前２年度分決算 | Z4: ③ 直前１年度分決算 | AL4: ④ 直前２か年間の 年間平均実績高 （千円） ※税抜き | AV4: ⑤申請希望
N6: 年 月から | T6: 年 月から | Z6: 年 月から | AF6: 年 月から
N7: 年 月まで | T7: 年 月まで | Z7: 年 月まで | AF7: 年 月まで
N8: （千円） ※税抜 | T8: （千円） ※税抜 | Z8: （千円） ※税抜 | AF8: （千円） ※税抜
C9: 01 | D9: 測量一般 | AL9: =IF(COUNT($N9:$AK9)=0,"",ROUNDDOWN(AVERAGE($N9:$AK9),0))
C10: 02 | D10: 航空測量 | AL10: =IF(COUNT($N10:$AK10)=0,"",ROUNDDOWN(AVERAGE($N10:$AK10),0))
C11: 03 | D11: 地質・土質調査 | AL11: =IF(COUNT($N11:$AK11)=0,"",ROUNDDOWN(AVERAGE($N11:$AK11),0))
C12: 04 | D12: 環境調査 | AL12: =IF(COUNT($N12:$AK12)=0,"",ROUNDDOWN(AVERAGE($N12:$AK12),0))
C13: 05 | D13: 交通量調査・解析 | AL13: =IF(COUNT($N13:$AK13)=0,"",ROUNDDOWN(AVERAGE($N13:$AK13),0))
C14: 06 | D14: 道路設計 | AL14: =IF(COUNT($N14:$AK14)=0,"",ROUNDDOWN(AVERAGE($N14:$AK14),0))
A15: 20 | C15: 07 | D15: 橋梁設計 | AL15: =IF(COUNT($N15:$AK15)=0,"",ROUNDDOWN(AVERAGE($N15:$AK15),0))
C16: 08 | D16: トンネル設計 | AL16: =IF(COUNT($N16:$AK16)=0,"",ROUNDDOWN(AVERAGE($N16:$AK16),0))
A17: 測 | C17: 09 | D17: 標識設計 | AL17: =IF(COUNT($N17:$AK17)=0,"",ROUNDDOWN(AVERAGE($N17:$AK17),0))
C18: 10 | D18: その他土木設計 | AL18: =IF(COUNT($N18:$AK18)=0,"",ROUNDDOWN(AVERAGE($N18:$AK18),0))
A19: 量 | C19: 11 | D19: 建築設計 | AL19: =IF(COUNT($N19:$AK19)=0,"",ROUNDDOWN(AVERAGE($N19:$AK19),0))
C20: 12 | D20: 電気設備設計 | AL20: =IF(COUNT($N20:$AK20)=0,"",ROUNDDOWN(AVERAGE($N20:$AK20),0))
A21: 等 | C21: 13 | D21: 通信設備設計 | AL21: =IF(COUNT($N21:$AK21)=0,"",ROUNDDOWN(AVERAGE($N21:$AK21),0))
C22: 14 | D22: 機械設備設計 | AL22: =IF(COUNT($N22:$AK22)=0,"",ROUNDDOWN(AVERAGE($N22:$AK22),0))
A23: 実 | C23: 15 | D23: 造園設計 | AL23: =IF(COUNT($N23:$AK23)=0,"",ROUNDDOWN(AVERAGE($N23:$AK23),0))
C24: 16 | D24: 土木施工管理 | AL24: =IF(COUNT($N24:$AK24)=0,"",ROUNDDOWN(AVERAGE($N24:$AK24),0))
A25: 績 | C25: 17 | D25: 建築施工管理 | AL25: =IF(COUNT($N25:$AK25)=0,"",ROUNDDOWN(AVERAGE($N25:$AK25),0))
C26: 18 | D26: 設備施工管理 | AL26: =IF(COUNT($N26:$AK26)=0,"",ROUNDDOWN(AVERAGE($N26:$AK26),0))
A27: 高 | C27: 19 | D27: 造園施工管理 | AL27: =IF(COUNT($N27:$AK27)=0,"",ROUNDDOWN(AVERAGE($N27:$AK27),0))
C28: 20 | D28: 土木保全点検 | AL28: =IF(COUNT($N28:$AK28)=0,"",ROUNDDOWN(AVERAGE($N28:$AK28),0))
C29: 21 | D29: 施設保全点検 | AL29: =IF(COUNT($N29:$AK29)=0,"",ROUNDDOWN(AVERAGE($N29:$AK29),0))
C30: 22 | D30: 権利調査 | AL30: =IF(COUNT($N30:$AK30)=0,"",ROUNDDOWN(AVERAGE($N30:$AK30),0))
C31: 23 | D31: 土地評価業務 | AL31: =IF(COUNT($N31:$AK31)=0,"",ROUNDDOWN(AVERAGE($N31:$AK31),0))
C32: 24 | D32: 物件等調査 | AL32: =IF(COUNT($N32:$AK32)=0,"",ROUNDDOWN(AVERAGE($N32:$AK32),0))
C33: 25 | D33: 事業損失関係調査 | AL33: =IF(COUNT($N33:$AK33)=0,"",ROUNDDOWN(AVERAGE($N33:$AK33),0))
C34: 26 | D34: 補償関連業務 | AL34: =IF(COUNT($N34:$AK34)=0,"",ROUNDDOWN(AVERAGE($N34:$AK34),0))
C35: 27 | D35: 電算業務 | AL35: =IF(COUNT($N35:$AK35)=0,"",ROUNDDOWN(AVERAGE($N35:$AK35),0))
C36: 28 | D36: 図面・調書作成 | AL36: =IF(COUNT($N36:$AK36)=0,"",ROUNDDOWN(AVERAGE($N36:$AK36),0))
C37: 29 | D37: 記録・資料作成 | AL37: =IF(COUNT($N37:$AK37)=0,"",ROUNDDOWN(AVERAGE($N37:$AK37),0))
C38: 30 | D38: 品質管理業務 | AL38: =IF(COUNT($N38:$AK38)=0,"",ROUNDDOWN(AVERAGE($N38:$AK38),0))
C39: 31 | D39: 維持修繕調査 | AL39: =IF(COUNT($N39:$AK39)=0,"",ROUNDDOWN(AVERAGE($N39:$AK39),0))
... C43: 35 | D43: 希望しない調査等の業種実績 | AL43: =IF(COUNT($N43:$AK43)=0,"",ROUNDDOWN(AVERAGE($N43:$AK43),0))
C44: 合 計 | N44: =IF(SUM(N9:S43)=0,"",SUM(N9:S43)) | T44: =IF(SUM(T9:Y43)=0,"",SUM(T9:Y43)) | Z44: =IF(SUM(Z9:AE43)=0,"",SUM(Z9:AE43)) | AF44: =IF(SUM(AF9:AK43)=0,"",SUM(AF9:AK43)) | AL44: =IF(SUM(N44:AK44)=0,"",SUM(N44:AK44)) | AV44: =IF(COUNTA(AV9:AV42)=0,"",COUNTA(AV9:AV42))

Sheet 様式1-2
A1: 様式１－２（令和9・10年度 ＮＥＸＣＯ西日本申請用）
A2: ※受付番号 | R2: 業 者 コ ー ド | Y2: =IF('様式1-1表'!AK2="","",'様式1-1表'!AK2) | Z2: =IF('様式1-1表'!AL2="","",'様式1-1表'!AL2) | AA2: =IF('様式1-1表'!AM2="","",'様式1-1表'!AM2) | AB2: =IF('様式1-1表'!AN2="","",'様式1-1表'!AN2) | AC2: =IF('様式1-1表'!AO2="","",'様式1-1表'!AO2) | AD2: =IF('様式1-1表'!AP2="","",'様式1-1表'!AP2) | AE2: =IF('様式1-1表'!AQ2="","",'様式1-1表'!AQ2) | AF2: =IF('様式1-1表'!AR2="","",'様式1-1表'!AR2) | ... AI2: =IF('様式1-1表'!AU2="","",'様式1-1表'!AU2)
A4: 21 | C4: 有資格者数（人）
A5: 資格・検定種目等名称 | W5: 人数 | AA5: 資格・検定種目等名称 | AZ5: 人数 | BD5: 資格・検定種目等名称 | BV5: 人数 | BZ5: 資格・検定種目等名称 | CJ5: 人数
A6: 1 | B6: 測量士 | V6: C001 | AA6: 63 | AB6: 技術士 （総合技術監理部門） | AH6: 機械部門 | AL6: 機械設計 | AY6: C063 | BD6: 115 | BE6: ＲＣＣＭ | BK6: 河川、砂防及び海岸・海洋部門 | BU6: C115 | BZ6: 176 | CA6: ＮＥＸＣＯ管理員資格Ｂ 土木 | CI6: C176
A7: 2 | B7: 測量士補 | V7: C002 | AA7: 64 | AL7: 材料強度・信頼性 | AY7: C064 | BD7: 116 | BK7: 港湾及び空港部門 | BU7: C116 | BZ7: 177 | CA7: ＮＥＸＣＯ管理員資格Ｂ 建築 | CI7: C177
A8: 3 | B8: 一級建築士 | V8: C003 | AA8: 65 | AL8: 機構ダイナミックス・制御 | AY8: C065 | BD8: 117 | BK8: 電力土木部門 | BU8: C117 | BZ8: 178 | CA8: ＮＥＸＣＯ管理員資格Ｂ 機械 | CI8: C178
A9: 4 | B9: 構造設計一級建築士 | V9: C004 | AA9: 66 | AL9: 熱・動力エネルギー機器 | AY9: C066 | BD9: 118 | BK9: 道路部門 | BU9: C118 | BZ9: 179 | CA9: ＮＥＸＣＯ管理員資格Ｂ 電気 | CI9: C179
A10: 5 | B10: 設備設計一級建築士 | V10: C005 | AA10: 67 | AL10: 流体機器 | AY10: C067 | BD10: 119 | BK10: 鉄道部門 | BU10: C119 | BZ10: 180 | CA10: ＮＥＸＣＯ管理員資格Ｂ 通信 | CI10: C180
A11: 6 | B11: 二級建築士 | V11: C006 | AA11: 68 | AL11: 加工・生産システム及び産業機械 | AY11: C068 | BD11: 120 | BK11: 上水道及び工業用水道部門 | BU11: C120 | BZ11: 181 | CA11: ＮＥＸＣＯ管理員資格Ｂ 造園 | CI11: C181
A12: 7 | B12: 建築設備士 | F12: （建築設備資格者） | V12: C007 | AA12: 69 | AL12: 機械力学・制御（旧選択科目） | AY12: C069 | BD12: 121 | BK12: 下水道部門 | BU12: C121 | BZ12: 182 | CA12: ＮＥＸＣＯ管理員資格Ｃ 土木 | CI12: C182
A13: 8 | B13: 建築積算士 | F13: （建築積算資格者） | V13: C008 | AA13: 70 | AL13: 動力エネルギー（旧選択科目） | AY13: C070 | BD13: 122 | BK13: 農業土木部門 | BU13: C122 | BZ13: 183 | CA13: ＮＥＸＣＯ管理員資格Ｃ 建築 | CI13: C183
A14: 9 | B14: 環境計量士 | F14: （平成４年度以前取得者） | V14: C009 | AA14: 71 | AL14: 熱工学（旧選択科目） | AY14: C071 | BD14: 123 | BK14: 森林土木部門 | BU14: C123 | BZ14: 184 | CA14: ＮＥＸＣＯ管理員資格Ｃ 機械 | CI14: C184
A15: 10 | B15: 環境計量士 | F15: （濃度関係） | V15: C010 | AA15: 72 | AL15: 交通・物流機械及び建設機械（旧選択科目） | AY15: C072 | BD15: 124 | BK15: 造園部門 | BU15: C124 | BZ15: 185 | CA15: ＮＥＸＣＯ管理員資格Ｃ 電気 | CI15: C185
A16: 11 | B16: 環境計量士 | F16: （騒音・振動関係） | V16: C011 | AA16: 73 | AL16: ロボット（旧選択科目） | AY16: C073 | BD16: 125 | BK16: 都市計画及び地方計画部門 | BU16: C125 | BZ16: 186 | CA16: ＮＥＸＣＯ管理員資格Ｃ 通信 | CI16: C186
A17: 12 | B17: 技術士 | E17: 機械部門 | I17: 機械設計 | V17: C012 | AA17: 74 | AL17: 情報・精密機器（旧選択科目） | AY17: C074 | BD17: 126 | BK17: 地質部門 | BU17: C126 | BZ17: 187 | CA17: ＮＥＸＣＯ管理員資格Ｃ 造園 | CI17: C187
A18: 13 | I18: 材料強度・信頼性 | V18: C013 | AA18: 75 | AH18: 電気電子部門 | AL18: 電力・エネルギーシステム | AY18: C075 | BD18: 127 | BK18: 土質及び基礎部門 | BU18: C127 | BZ18: 188 | CA18: 調査会上級修了 土木 | CI18: C188
A19: 14 | I19: 機構ダイナミックス・制御 | V19: C014 | AA19: 76 | AL19: 電気応用 | AY19: C076 | BD19: 128 | BK19: 鋼構造及びコンクリート部門 | BU19: C128 | BZ19: 189 | CA19: 調査会上級修了 建築 | CI19: C189
A20: 15 | I20: 熱・動力エネルギー機器 | V20: C015 | AA20: 77 | AL20: 電子応用 | AY20: C077 | BD20: 129 | BK20: トンネル部門 | BU20: C129 | BZ20: 190 | CA20: 調査会上級修了 機械 | CI20: C190
A21: 16 | I21: 流体機器 | V21: C016 | AA21: 78 | AL21: 情報通信 | AY21: C078 | BD21: 130 | BK21: 施工計画、施工設備及び積算部門 | BU21: C130 | BZ21: 191 | CA21: 調査会上級修了 電気 | CI21: C191
A22: 17 | I22: 加工・生産システム及び産業機械 | V22: C017 | AA22: 79 | AL22: 電気設備 | AY22: C079 | BD22: 131 | BK22: 建設環境部門 | BU22: C131 | BZ22: 192 | CA22: 調査会上級修了 通信 | CI22: C192
A23: 18 | I23: 機械力学・制御（旧選択科目） | V23: C018 | AA23: 80 | AH23: 建設部門 | AL23: 土質及び基礎 | AY23: C080 | BD23: 132 | BK23: 機械部門 | BU23: C132 | BZ23: 193 | CA23: 調査会上級修了 造園 | CI23: C193
A24: 19 | I24: 動力エネルギー（旧選択科目） | V24: C019 | AA24: 81 | AL24: 鉄鋼造及びコンクリート | AY24: C081 | BD24: 133 | BK24: 電気電子部門 | BU24: C133 | BZ24: 194 | CA24: 調査会中級修了 土木 | CI24: C194
A25: 20 | I25: 熱工学（旧選択科目） | V25: C020 | AA25: 82 | AL25: 都市及び地方計画 | AY25: C082 | BD25: 134 | BK25: 建設情報部門 | BU25: C134 | BZ25: 195 | CA25: 調査会中級修了 建築 | CI25: C195
A26: 21 | I26: 交通・物流機械及び建設機械（旧選択科目） | V26: C021 | AA26: 83 | AL26: 河川、砂防及び海岸・海洋 | AY26: C083 | BD26: 135 | BE26: 一級土木施工管理技士 | BU26: C135 | BZ26: 196 | CA26: 調査会中級修了 機械 | CI26: C196
A27: 22 | I27: ロボット（旧選択科目） | V27: C022 | AA27: 84 | AL27: 港湾及び空港 | AY27: C084 | BD27: 136 | BE27: 第一種電気主任技術者 | BU27: C136 | BZ27: 197 | CA27: 調査会中級修了 電気 | CI27: C197
A28: 23 | I28: 情報・精密機器（旧選択科目） | V28: C023 | AA28: 85 | AL28: 電力土木 | AY28: C085 | BD28: 137 | BE28: 第二種電気主任技術者 | BU28: C137 | BZ28: 198 | CA28: 調査会中級修了 通信 | CI28: C198
A29: 24 | E29: 電気電子部門 | I29: 電力・エネルギーシステム | V29: C024 | AA29: 86 | AL29: 道路 | AY29: C086 | BD29: 138 | BE29: 第三種電気主任技術者 | BU29: C138 | BZ29: 199 | CA29: 調査会中級修了 造園 | CI29: C199
A30: 25 | I30: 電気応用 | V30: C025 | AA30: 87 | AL30: 鉄道 | AY30: C087 | BD30: 139 | BE30: 第一級総合無線通信士 | BU30: C139 | BZ30: 200 | CA30: 土木学会特別上級技術者 | CI30: C200
A31: 26 | I31: 電子応用 | V31: C026 | AA31: 88 | AL31: トンネル | AY31: C088 | BD31: 140 | BE31: 第二級総合無線通信士 | BU31: C140 | BZ31: 201 | CA31: 土木学会上級技術者 | CI31: C201
A32: 27 | I32: 情報通信 | V32: C027 | AA32: 89 | AL32: 施工計画、施工設備及び積算 | AY32: C089 | BD32: 141 | BE32: 第一級陸上無線技術士 | BU32: C141 | CC32: 合 計 | CJ32: =SUM(CJ6:CL31) -> 0
A33: 28 | I33: 電気設備 | V33: C028 | AA33: 90 | AL33: 建設環境 | AY33: C090 | BD33: 142 | BE33: 第二級陸上無線技術士 | BU33: C142
A34: 29 | E34: 建設部門 | I34: 土質及び基礎 | V34: C029 | AA34: 91 | AH34: 上下水道部門 | AL34: 上水道及び工業用水道 | AY34: C091 | BD34: 143 | BE34: 伝送交換主任技術者 | BU34: C143
A35: 30 | I35: 鉄鋼造及びコンクリート | V35: C030 | AA35: 92 | AL35: 下水道 | AY35: C092 | BD35: 144 | BE35: 第一種電気工事士 | BU35: C144
A36: 31 | I36: 都市及び地方計画 | V36: C031 | AA36: 93 | AL36: 水道環境（旧選択科目） | AY36: C093 | BD36: 145 | BE36: 線路主任技術者 | BU36: C145
A37: 32 | I37: 河川、砂防及び海岸・海洋 | V37: C032 | AA37: 94 | AH37: 衛生工学部門 | AL37: 水質管理 | AY37: C094 | BD37: 146 | BE37: 第一級建築施工管理技士 | BU37: C146
A38: 33 | I38: 港湾及び空港 | V38: C033 | AA38: 95 | AL38: 廃棄物・資源循環 | AY38: C095 | BD38: 147 | BE38: 第一級造園施工管理技士 | BU38: C147
A39: 34 | I39: 電力土木 | V39: C034 | AA39: 96 | AL39: 建築物環境衛生管理 | AY39: C096 | BD39: 148 | BE39: 第一級管工事施工管理技士 | BU39: C148
A40: 35 | I40: 道路 | V40: C035 | AA40: 97 | AL40: 大気管理（旧選択科目） | AY40: C097 | BD40: 149 | BE40: 第一級電気工事施工管理技士 | BU40: C149
A41: 36 | I41: 鉄道 | V41: C036 | AA41: 98 | AL41: 空気調和（旧選択科目） | AY41: C098 | BD41: 150 | BE41: 第一級電気通信工事施工管理技士 | BU41: C150
...

Sheet 様式1-3
A1: 様式１－３（令和9・10年度 ＮＥＸＣＯ西日本申請用）
A2: ※受付番号 | R2: 業 者 コ ー ド | X2: =IF('様式1-1表'!AK2="","",'様式1-1表'!AK2) | Y2: =IF('様式1-1表'!AL2="","",'様式1-1表'!AL2) | Z2: =IF('様式1-1表'!AM2="","",'様式1-1表'!AM2) | AA2: =IF('様式1-1表'!AN2="","",'様式1-1表'!AN2) | AB2: =IF('様式1-1表'!AO2="","",'様式1-1表'!AO2) | AC2: =IF('様式1-1表'!AP2="","",'様式1-1表'!AP2) | AD2: =IF('様式1-1表'!AQ2="","",'様式1-1表'!AQ2) | AE2: =IF('様式1-1表'!AR2="","",'様式1-1表'!AR2) | ... AH2: =IF('様式1-1表'!AU2="","",'様式1-1表'!AU2)
A4: 22 | C4: 建設コンサルタント、補償コンサルタント及び計量証明登録業者の登録部門
A6: 建 設 コ ン サ ル タ ン ト 業 務 | AQ6: 補償コンサルタント業務 | BG6: 計量証明事業
A7: 1 | C7: 2 | E7: 3 | G7: 4 | I7: 5 | K7: 6 | M7: 7 | O7: 8 | Q7: 9 | S7: 10 | U7: 11 | W7: 12 | Y7: 13 | AA7: 14 | AC7: 15 | AE7: 16 | AG7: 17 | AI7: 18 | AK7: 19 | AM7: 20 | AO7: 21 | AQ7: 22 | AS7: 23 | AU7: 24 | AW7: 25 | AY7: 26 | BA7: 27 | BC7: 28 | BE7: 29 | BG7: 30 | BI7: 31 | BK7: 32 | BM7: 33 | BO7: 34
A9: 河川、砂防及び海岸・海洋 | C9: 港湾及び 空港 | E9: 電力土木 | G9: 道路 | I9: 鉄道 | K9: 上水道及び 工業用水道 | M9: 下水道 | O9: 農業土木 | Q9: 森林土木 | S9: 水産土木 | U9: 廃棄物 | W9: 造園 | Y9: 都市計画及び地方計画 | AA9: 地質 | AC9: 土質及び基礎 | AE9: 鋼構造物及び コンクリート | AG9: トンネル | AI9: 施工計画、施工設備及び積算 | AK9: 建設環境 | AM9: 機械 | AO9: 電気電子 | AQ9: 土地調査 | AS9: 土地評価 | AU9: 物件 | AW9: 機械工作物 | AY9: 営業補償・ 特殊補償 | BA9: 事業損失 | BC9: 補償関連 | BE9: 総合補償 | BG9: 濃度（大気） | BI9: 濃度 （水土壌） | BK9: 音圧レベル | BM9: 振動加速度 レベル | BO9: 特定濃度
A16: 23 | H16: 区 分 | U16: 直 前 決 算 時 | AG16: 【注意事項】
Z17: （千円） | AH17: （１）登録を受けている部門に対応する番号に「○」印を付すこと。
A18: 純資産額 | D18: ① | G18: （うち外国資本） | S18: （ | AC18: ） | AH18: （２）「補償コンサルタント業務」のうち、『22土地調査』及び『23土地評価』は不動産の鑑定評価
F19: 株主資本 | AI19: に関する法律（不動産鑑定法）に定める『不動産鑑定士』の資格とは異なります。
D20: ② | F20: 評価・換算差額金 | AH20: （３）「株主資本」は『資本金』のことではありません。
D21: ③ | F21: 新株予約権 | AH21: （４）「総資本額」は『純資産の部合計』のことではありません。
D22: ④ | F22: 株式引受権
D23: ⑤ | F23: 計 （Ｐ） | T23: =IF(COUNTIF($T$19:$T$22,"<>")=0,"",SUM($T$19:$T$22))
A25: 24 損益計算書 | G25: 税引前当期利益 | N25: （千円） | Q25: （Ｓ） | AK25: 27 | AM25: 1 外 国 籍 会 社 | AY25: 3 日 本 国 籍 会 社
A26: 25 貸借対照表 | G26: ① 流動資産 | N26: （千円） | Q26: （ｍ） | AK26: 外資状況 | AM26: ［国名： | AX26: ］ | AY26: ［国名： | BP26: ］
G27: ② 流動負債 | N27: （千円） | Q27: （ｎ） | AM27: 2 日 本 国 籍 会 社 | AY27: （外資比率： | BE27: ％）
G28: ③ 固定資産 | N28: （千円） | Q28: （Ｑ） | AM28: ［国名： | AX28: ］ | AY28: ［国名： | BP28: ］
G29: ④ 総資本額 | N29: （千円） | Q29: （Ｒ） | AM29: （外資比率：100％） | AY29: （外資比率： | BE29: ％）
A31: 26 経営比率 | G31: ① 総資本純利益率 | P31: （Ｓ／Ｒ×100） | Y31: ． | AA31: （％） | AM31: 28 | AO31: ① | AP31: 創 業 | AZ31: 年 | BC31: 月 | BF31: 日
G32: ② 流動比率 | P32: （ｍ／ｎ×100） | Y32: ． | AA32: （％） | AM32: 事業年数等 | AO32: ② | AP32: 休業期間又は | AZ32: 年 | BC32: 月 | BF32: 日から
G33: ③ 自己資本固定比率 | P33: （Ｐ／Ｑ×100） | Y33: ． | AA33: （％） | AP33: 転（廃）業の期間 | AZ33: 年 | BC33: 月 | BF33: 日まで
AO34: ③ | AP34: 現組織への変更 | AZ34: 年 | BC34: 月 | BF34: 日
A35: 29 常勤職員の数 | H35: ①技術職員 | N35: ②事務職員 | T35: ③その他の職員 | Z35: ④ 計 | AG35: ⑤役職員等 | AO35: ④ | AP35: 事 業 年 数 | BG35: （年）
Z36: =IF(COUNTIF($H$36:$Y$36,"<>")=0,"",SUM($H$36:$Y$36))
AG37: ※⑤は④の内数

Sheet 様式2
A1: 様式２（令和9・10年度 ＮＥＸＣＯ西日本申請用） | AI1: （１）本表は、申請日現在で作成すること。 （２）「営業所名称」欄には、常時契約を締結する本店又は支店等営業所の名称を記載すること。 （３）「所在地」欄には、営業所の所在地を上段から左詰めで記載すること。 （４）「電話番号・ＦＡＸ番号」欄は、上段に電話番号を、下段にＦＡＸ番号を記載することとし、市外局番・市内局番及び番号は「-（ハイフン）」で区切ること。
A2: ※受付番号 | R2: 業 者 コ ー ド | X2: =IF('様式1-1表'!AK2="","",'様式1-1表'!AK2) | Y2: =IF('様式1-1表'!AL2="","",'様式1-1表'!AL2) | Z2: =IF('様式1-1表'!AM2="","",'様式1-1表'!AM2) | AA2: =IF('様式1-1表'!AN2="","",'様式1-1表'!AN2) | AB2: =IF('様式1-1表'!AO2="","",'様式1-1表'!AO2) | AC2: =IF('様式1-1表'!AP2="","",'様式1-1表'!AP2) | AD2: =IF('様式1-1表'!AQ2="","",'様式1-1表'!AQ2) | AE2: =IF('様式1-1表'!AR2="","",'様式1-1表'!AR2) | ... AG2: =IF('様式1-1表'!AT2="","",'様式1-1表'!AT2)
A4: 営 業 所 一 覧 表
A5: 番号 | B5: 営業所名称 | N5: 郵便番号 | S5: 所 在 地 | AH5: 電話番号（上段） | AS5: 営 業 区 域
AH6: ＦＡＸ番号（下段）
A7: 1 | B7: =IF('様式1-1表'!M21="","","本 社") | N7: =IF('様式1-1表'!M15<>"",'様式1-1表'!M15,"") | P7: - | Q7: =IF('様式1-1表'!U15<>"",'様式1-1表'!U15,"") | S7: =IF(AND('様式1-1表'!M18<>"県名",'様式1-1表'!M18<>""),'様式1-1表'!M18,"") | W7: =IF(AND('様式1-1表'!T18<>"市区町村",'様式1-1表'!T18<>""),'様式1-1表'!T18,"") | AB7: =IF(AND('様式1-1表'!AH18<>"地名/番地",'様式1-1表'!AH18<>""),'様式1-1表'!AH18,"") | AH7: =IF(AND('様式1-1表'!M28<>"",'様式1-1表'!U28<>"",'様式1-1表'!AC28<>""),'様式1-1表'!M28,"") | AK7: - | AL7: =IF(AND('様式1-1表'!M28<>"",'様式1-1表'!U28<>"",'様式1-1表'!AC28<>""),'様式1-1表'!U28,"") | AO7: - | AP7: =IF(AND('様式1-1表'!M28<>"",'様式1-1表'!U28<>"",'様式1-1表'!AC28<>""),'様式1-1表'!AC28,"")
AH8: =IF(AND('様式1-1表'!M30<>"",'様式1-1表'!U30<>"",'様式1-1表'!AC30<>""),'様式1-1表'!M30,"") | AK8: - | AL8: =IF(AND('様式1-1表'!M30<>"",'様式1-1表'!U30<>"",'様式1-1表'!AC30<>""),'様式1-1表'!U30,"") | AO8: - | AP8: =IF(AND('様式1-1表'!M30<>"",'様式1-1表'!U30<>"",'様式1-1表'!AC30<>""),'様式1-1表'!AC30,"")
A9: 2 | P9: - | S9: =IF(BV9="","県名") -> 県名 | W9: 市区町村 | AB9: 地名/番地 | AK9: - | AO9: -
AK10: - | AO10: -
A11: 3 | P11: - | S11: =IF(BV11="","県名") -> 県名 | W11: 市区町村 | AB11: 地名/番地 | AK11: - | AO11: -
AK12: - | AO12: -
A13: 4 | P13: - | S13: =IF(BV13="","県名") -> 県名 | W13: 市区町村 | AB13: 地名/番地 | AK13: - | AO13: -
AK14: - | AO14: -
A15: 5 | P15: - | S15: =IF(BV15="","県名") -> 県名 | W15: 市区町村 | AB15: 地名/番地 | AK15: - | AO15: -
AK16: - | AO16: -
A17: 6 | P17: - | S17: =IF(BV17="","県名") -> 県名 | W17: 市区町村 | AB17: 地名/番地 | AK17: - | AO17: -
AK18: - | AO18: -
A19: 7 | P19: - | S19: =IF(BV19="","県名") -> 県名 | W19: 市区町村 | AB19: 地名/番地 | AK19: - | AO19: -
AK20: - | AO20: -
A21: 8 | P21: - | S21: =IF(BV21="","県名") -> 県名 | W21: 市区町村 | AB21: 地名/番地 | AK21: - | AO21: -
AK22: - | AO22: -
A23: 9 | P23: - | S23: =IF(BV23="","県名") -> 県名 | W23: 市区町村 | AB23: 地名/番地 | AK23: - | AO23: -
AK24: - | AO24: -
A25: 10 | P25: - | S25: =IF(BV25="","県名") -> 県名 | W25: 市区町村 | AB25: 地名/番地 | AK25: - | AO25: -
AK26: - | AO26: -
A27: 11 | P27: - | S27: =IF(BV27="","県名") -> 県名 | W27: 市区町村 | AB27: 地名/番地 | AK27: - | AO27: -
AK28: - | AO28: -
A29: 12 | P29: - | S29: =IF(BV29="","県名") -> 県名 | W29: 市区町村 | AB29: 地名/番地 | AK29: - | AO29: -
AK30: - | AO30: -
A31: 13 | P31: - | S31: =IF(BV31="","県名") -> 県名 | W31: 市区町村 | AB31: 地名/番地 | AK31: - | AO31: -
AK32: - | AO32: -
A33: 14 | P33: - | S33: =IF(BV33="","県名") -> 県名 | W33: 市区町村 | AB33: 地名/番地 | AK33: - | AO33: -
AK34: - | AO34: -
A35: 15 | P35: - | S35: =IF(BV35="","県名") -> 県名 | W35: 市区町村 | AB35: 地名/番地 | AK35: - | AO35: -
AK36: - | AO36: -
A37: 16 | P37: - | S37: =IF(BV37="","県名") -> 県名 | W37: 市区町村 | AB37: 地名/番地 | AK37: - | AO37: -
AK38: - | AO38: -
A39: 17 | P39: - | S39: =IF(BV39="","県名") -> 県名 | W39: 市区町村 | AB39: 地名/番地 | AK39: - | AO39: -
AK40: - | AO40: -
A41: 18 | P41: - | S41: =IF(BV41="","県名") -> 県名 | W41: 市区町村 | AB41: 地名/番地 | AK41: - | AO41: -
...

Sheet 様式3
A1: 様式３（令和9・10年度 ＮＥＸＣＯ西日本申請用）
A2: ※受付番号 | R2: 業 者 コ ー ド | X2: =IF('様式1-1表'!AK2="","",'様式1-1表'!AK2) | Y2: =IF('様式1-1表'!AL2="","",'様式1-1表'!AL2) | Z2: =IF('様式1-1表'!AM2="","",'様式1-1表'!AM2) | AA2: =IF('様式1-1表'!AN2="","",'様式1-1表'!AN2) | AB2: =IF('様式1-1表'!AO2="","",'様式1-1表'!AO2) | AC2: =IF('様式1-1表'!AP2="","",'様式1-1表'!AP2) | AD2: =IF('様式1-1表'!AQ2="","",'様式1-1表'!AQ2) | AE2: =IF('様式1-1表'!AR2="","",'様式1-1表'!AR2) | ... AH2: =IF('様式1-1表'!AU2="","",'様式1-1表'!AU2)
A4: 技 術 者 経 歴 書
A5: 氏 名 | H5: 法令による免許等 | AB5: 実 務 経 歴 | AS5: 実務経験 年月数
H6: 名 称 | U6: 取得年月日
W7: 年 | Y7: 月 | AA7: 日 | AS7: 年 月
W8: 年 | Y8: 月 | AA8: 日 | AS8: 年 月
W9: 年 | Y9: 月 | AA9: 日 | AS9: 年 月
W10: 年 | Y10: 月 | AA10: 日 | AS10: 年 月
W11: 年 | Y11: 月 | AA11: 日 | AS11: 年 月
W12: 年 | Y12: 月 | AA12: 日 | AS12: 年 月
W13: 年 | Y13: 月 | AA13: 日 | AS13: 年 月
W14: 年 | Y14: 月 | AA14: 日 | AS14: 年 月
W15: 年 | Y15: 月 | AA15: 日 | AS15: 年 月
W16: 年 | Y16: 月 | AA16: 日 | AS16: 年 月
W17: 年 | Y17: 月 | AA17: 日 | AS17: 年 月
W18: 年 | Y18: 月 | AA18: 日 | AS18: 年 月
... W31: 年 | Y31: 月 | AA31: 日 | AS31: 年 月
A32: （１）本表は、様式1-2の「資格・検定種目」順に作成すること。
B33: また、「氏名」の記載は、営業所（本店又は支店若しくは常時契約する事務所）ごとにまとめて行い、その直前に、（ ）書きで当該営業所名を記載すること。
A34: （２）「法令による免許等」の欄には、業務に関し法律又は命令による免許又は技術若しくは技能の認定を受けたものを記載すること。
B35: （例：○○建築士、○○土木施工管理技士、NEXCO管理員資格B○○など）

Sheet 様式4-1（合併）
A1: 様式4-1（令和9・10年度 ＮＥＸＣＯ西日本申請用）
A2: 合併に伴う競争参加資格承継申請書【調査等】
F4: 令和 年 月 日
A6: 西日本高速道路㈱ 殿
C8: 合併後会社 | E8: （所在地）
E9: （商 号）
E10: （代表者）
C12: 合併当事会社
C13: 存続会社 | E13: （商 号）
C14: 解散会社 | E14: （商 号）
A17: 令和 年 月 日付けをもって、○○株式会社は、△△株式会社と下記により合併し、権利義務の一切を承継しましたので、競争参加資格の承継について申請します。
A18: なお、合併後の会社は□□株式会社とします。
A21: 記
A22: １．合併理由
A27: ２．申請に伴う提出書類
B28: ① 競争参加資格審査申請書（測量・建設コンサルタント等） | E28: ･･････ 様式１
B29: ② 営業所一覧表 | E29: ･･････ 様式2
B30: ③ 技術者経歴書 | E30: ･･････ 様式3
B31: ④ 納税証明書の写し
B32: ⑤ 合併契約書の写し
B33: ⑥ 合併後の登記事項証明書の写し
B34: ⑦ 合併新設会社又は合併存続会社の事業上必要な登録証明書の写し
B35: ⑧ 合併前の合併当事会社全ての直前の決算にかかる財務諸表類
B36: ⑨ 合併新設会社又は合併存続会社の開始貸借対照表又は合併登記の日における財務諸表類
F38: 以 上

Sheet 様式4-2（事業譲渡）
A1: 様式4-2（令和9・10年度 ＮＥＸＣＯ西日本申請用）
A2: 事業譲渡（一部事業譲渡）に伴う競争参加資格承継申請書【調査等】
F4: 令和 年 月 日
A6: 西日本高速道路㈱ 殿
C8: 譲渡後会社 | E8: （所在地）
E9: （商 号）
E10: （代表者）
C12: 譲渡前会社
C13: 譲渡会社 | E13: （商 号）
C14: 譲受会社 | E14: （商 号）
A17: 令和 年 月 日付けをもって、○○株式会社は、△△株式会社に下記により（事業譲渡・一部事業譲渡）し、権利義務の一切を承継しましたので、競争参加資格の承継について申請します。
A18: なお、事業譲渡後の会社は□□株式会社とします。
A20: 記
A21: １．譲渡する希望業種区分
A25: ２．事業譲渡（一部事業譲渡）理由
A29: ３．申請に伴う提出書類
B30: ① 競争参加資格審査申請書（測量・建設コンサルタント等） | E30: ･･････ 様式１
B31: ② 営業所一覧表 | E31: ･･････ 様式2
B32: ③ 技術者経歴書 | E32: ･･････ 様式3
B33: ④ 納税証明書の写し
B34: ⑤ 事業譲渡契約書の写し
B35: ⑥ 譲渡人及び譲受人の株主総会議事録の写し（会社法により株主総会の承認が義務付けられている
B36: 場合に限る。）
B37: ⑦ 事業譲渡後の譲渡人及び譲受人の登記事項証明書の写し
B38: ⑧ 事業譲渡後の事業上必要な登録証明書の写し
B39: ⑨ 事業譲渡前の譲渡人及び譲受人の直前の決算にかかる財務諸表類
B40: ⑩ 事業譲渡後の譲受人の開始貸借対照表、あるいは、事業譲渡日における財務諸表類
F42: 以 上

Sheet 様式4-3（会社分割）
A1: 様式4-3（令和9・10年度 ＮＥＸＣＯ西日本申請用）
A2: 会社分割に伴う競争参加資格承継申請書【調査等】
F4: 令和 年 月 日
A6: 西日本高速道路㈱ 殿
C8: 分割後会社 | E8: （所在地）
E9: （商 号）
E10: （代表者）
C12: 分割前会社
C13: 分割渡会社 | E13: （商 号）
C14: 分割受会社 | E14: （商 号）
A17: 令和 年 月 日付けをもって、○○株式会社は、△△株式会社に下記により会社分割し、権利義務の一切を承継しましたので、競争参加資格の承継について申請します。
A18: なお、会社分割後の会社は□□株式会社 とします。
A20: 記
A21: １．分割する希望業種区分
A25: ２．会社分割理由
A29: ３．申請に伴う提出書類
B30: ① 競争参加資格審査申請書（測量・建設コンサルタント等） | E30: ･･････ 様式１
B31: ② 営業所一覧表 | E31: ･･････ 様式2
B32: ③ 技術者経歴書 | E32: ･･････ 様式3
B33: ④ 納税証明書の写し
B34: ⑤ 会社分割契約書の写し
B35: ⑥ 会社分割後の譲渡人及び譲受人の登記事項証明書の写し
B36: ⑦ 会社分割後の譲受人の事業上必要な登録証明書の写し
B37: ⑧ 会社分割前の譲渡人及び譲受人の直前の決算にかかる財務諸表類
B38: ⑨ 会社分割後の譲受人の開始貸借対照表、あるいは、会社分割登記の日における財務諸表類
F40: 以 上
